BEGIN:VCALENDAR
VERSION:2.0
PRODID:-//ChamberMaster//Event Calendar 2.0//EN
METHOD:PUBLISH
X-PUBLISHED-TTL:P3D
REFRESH-INTERVAL:P3D
CALSCALE:GREGORIAN
BEGIN:VEVENT
DTSTART:20150820T220000Z
DTEND:20150821T010000Z
X-MICROSOFT-CDO-ALLDAYEVENT:FALSE
SUMMARY:Third Thursday
DESCRIPTION:Third Thursday\n\nEvery third Thursday of the month between August and December\, downtown businesses will be open until 8 p.m.\, and will offer in store specials\, live music\, door prizes and other activities.\n\nThe event is designed to encourage residents to shop locally\, and become familiar with the shops in the downtown area.
X-ALT-DESC;FMTTYPE=text/html:Third Thursday<br />\nEvery third Thursday of the month between August and December\, downtown businesses will be open until 8 p.m.\, and will offer in store specials\, live music\, door prizes and other activities.<br />\nThe event is designed to encourage residents to shop locally\, and become familiar with the shops in the downtown area.
LOCATION:Downtown Taylor
UID:e.2099.183
SEQUENCE:3
DTSTAMP:20260419T172411Z
URL:http://taylorchamber.chambermaster.com/events/details/third-thursday-08-20-2015-183
END:VEVENT

END:VCALENDAR
