BEGIN:VCALENDAR
VERSION:2.0
PRODID:-//ChamberMaster//Event Calendar 2.0//EN
METHOD:PUBLISH
X-PUBLISHED-TTL:P3D
REFRESH-INTERVAL:P3D
CALSCALE:GREGORIAN
BEGIN:VEVENT
DTSTART:20150319T220000Z
DTEND:20150320T010000Z
X-MICROSOFT-CDO-ALLDAYEVENT:FALSE
SUMMARY:Third Thursday
DESCRIPTION:Every third Thursday of the month between August and December\, downtown businesses will be open until 8 p.m.\, and will offer in store specials\, live music\, door prizes and other activities.
X-ALT-DESC;FMTTYPE=text/html:Every third Thursday of the month between August and December\, downtown businesses will be open until 8 p.m.\, and will offer in store specials\, live music\, door prizes and other activities.
LOCATION:Downtown Taylor
UID:e.2099.140
SEQUENCE:3
DTSTAMP:20260421T233722Z
URL:http://taylorchamber.chambermaster.com/events/details/third-thursday-03-19-2015-140
END:VEVENT

END:VCALENDAR
