BEGIN:VCALENDAR
VERSION:2.0
PRODID:-//ChamberMaster//Event Calendar 2.0//EN
METHOD:PUBLISH
X-PUBLISHED-TTL:P3D
REFRESH-INTERVAL:P3D
CALSCALE:GREGORIAN
BEGIN:VEVENT
DTSTART:20150404T150000Z
DTEND:20150404T170000Z
X-MICROSOFT-CDO-ALLDAYEVENT:FALSE
SUMMARY:Easter Egg Hunt
DESCRIPTION:Easter Egg Hunt-- Children will be divided into two age groups\, ages one through three\; ages four through six.  One parent or adult must accompany each child.
X-ALT-DESC;FMTTYPE=text/html:<em><strong style="box-sizing: border-box\; font-family: Arial\; font-size: 12.8000001907349px\; line-height: 17.9200000762939px\; background-color: rgb(228\, 224\, 215)\;">Easter Egg Hunt--&nbsp\;</strong>Children will be divided into two age groups\, ages one through three\; ages four through six. &nbsp\;One parent or adult must accompany each child. &nbsp\;</em>
LOCATION:Heritage Square\, 105 E 4th St\, Taylor
UID:e.2099.238
SEQUENCE:3
DTSTAMP:20260420T052606Z
URL:http://taylorchamber.chambermaster.com/events/details/easter-egg-hunt-04-04-2015-238
END:VEVENT

END:VCALENDAR
